BEGIN:VCALENDAR
VERSION:2.0
PRODID:-//Commune de Frans - ECPv5.0.0.2//NONSGML v1.0//EN
CALSCALE:GREGORIAN
METHOD:PUBLISH
X-WR-CALNAME:Commune de Frans
X-ORIGINAL-URL:https://www.frans.fr
X-WR-CALDESC:Évènements pour Commune de Frans
BEGIN:VTIMEZONE
TZID:Europe/Paris
BEGIN:DAYLIGHT
TZOFFSETFROM:+0100
TZOFFSETTO:+0200
TZNAME:CEST
DTSTART:20260329T010000
END:DAYLIGHT
BEGIN:STANDARD
TZOFFSETFROM:+0200
TZOFFSETTO:+0100
TZNAME:CET
DTSTART:20261025T010000
END:STANDARD
END:VTIMEZONE
BEGIN:VEVENT
DTSTART;VALUE=DATE:20260425
DTEND;VALUE=DATE:20260426
DTSTAMP:20260421T003520
CREATED:20260420T123513Z
LAST-MODIFIED:20260420T131452Z
UID:6478-1777075200-1777161599@www.frans.fr
SUMMARY:Loto du Sou des Ecoles - 25 avril
DESCRIPTION:Affiche_A3_Loto\n
URL:https://www.frans.fr/evenement/loto-du-sou-des-ecoles-25-avril/
LOCATION:Salle Michel Berthoud – Frans\, Rue des gagères\, Frans\, 01480
ORGANIZER;CN="Sou%20des%20%C3%89coles":MAILTO:soudesecolesfrans@gmail.com
END:VEVENT
BEGIN:VEVENT
DTSTART;TZID=Europe/Paris:20260502T080000
DTEND;TZID=Europe/Paris:20260502T170000
DTSTAMP:20260421T003520
CREATED:20260420T132547Z
LAST-MODIFIED:20260420T132547Z
UID:6483-1777708800-1777741200@www.frans.fr
SUMMARY:Vente de Jambon à la broche
DESCRIPTION:Le 2 mai 2026 de 8h00 à 16h00 \nSous la Halle \nOrganisée par la Classe en 3 \n
URL:https://www.frans.fr/evenement/vente-de-jambon-a-la-broche/
LOCATION:Halle – Frans\, 150 Route des sorbiers\, Frans\, 01480\, France
ATTACH;FMTTYPE=image/png:https://www.frans.fr/wp-content/uploads/2026/04/jambon-à-la-broche.png
ORGANIZER;CN="Classe%20en%203":MAILTO:chvo@sfr.fr
END:VEVENT
END:VCALENDAR