BEGIN:VCALENDAR
VERSION:2.0
PRODID:-//Commune de Frans - ECPv5.0.0.2//NONSGML v1.0//EN
CALSCALE:GREGORIAN
METHOD:PUBLISH
X-WR-CALNAME:Commune de Frans
X-ORIGINAL-URL:https://www.frans.fr
X-WR-CALDESC:Évènements pour Commune de Frans
BEGIN:VTIMEZONE
TZID:Europe/Paris
BEGIN:DAYLIGHT
TZOFFSETFROM:+0100
TZOFFSETTO:+0200
TZNAME:CEST
DTSTART:20260329T010000
END:DAYLIGHT
BEGIN:STANDARD
TZOFFSETFROM:+0200
TZOFFSETTO:+0100
TZNAME:CET
DTSTART:20261025T010000
END:STANDARD
END:VTIMEZONE
BEGIN:VEVENT
DTSTART;TZID=Europe/Paris:20260529T180000
DTEND;TZID=Europe/Paris:20260529T230000
DTSTAMP:20260420T184957
CREATED:20260420T152801Z
LAST-MODIFIED:20260420T152924Z
UID:6490-1780077600-1780095600@www.frans.fr
SUMMARY:AFTER
DESCRIPTION:AfterWork organisé par la Classe en 1 \nSous la Halle \n
URL:https://www.frans.fr/evenement/after/
LOCATION:Halle – Frans\, 150 Route des sorbiers\, Frans\, 01480\, France
END:VEVENT
END:VCALENDAR