BEGIN:VCALENDAR
VERSION:2.0
PRODID:-//Commune de Frans - ECPv5.0.0.2//NONSGML v1.0//EN
CALSCALE:GREGORIAN
METHOD:PUBLISH
X-WR-CALNAME:Commune de Frans
X-ORIGINAL-URL:https://www.frans.fr
X-WR-CALDESC:Évènements pour Commune de Frans
BEGIN:VTIMEZONE
TZID:Europe/Paris
BEGIN:DAYLIGHT
TZOFFSETFROM:+0100
TZOFFSETTO:+0200
TZNAME:CEST
DTSTART:20260329T010000
END:DAYLIGHT
BEGIN:STANDARD
TZOFFSETFROM:+0200
TZOFFSETTO:+0100
TZNAME:CET
DTSTART:20261025T010000
END:STANDARD
END:VTIMEZONE
BEGIN:VEVENT
DTSTART;TZID=Europe/Paris:20260531T080000
DTEND;TZID=Europe/Paris:20260531T130000
DTSTAMP:20260420T202728
CREATED:20260420T154119Z
LAST-MODIFIED:20260420T154137Z
UID:6494-1780214400-1780232400@www.frans.fr
SUMMARY:Fête des Mères - Vente de Fleurs
DESCRIPTION:Vente de fleurs de la Classe en 5  pour la Fête des Mères \nSous la Halle \n
URL:https://www.frans.fr/evenement/fete-des-meres-vente-de-fleurs/
LOCATION:Halle – Frans\, 150 Route des sorbiers\, Frans\, 01480\, France
ATTACH;FMTTYPE=image/jpeg:https://www.frans.fr/wp-content/uploads/2026/04/fleurs.jpg
ORGANIZER;CN="Classe%20en%205":MAILTO:classe5.frans@yahoo.fr
END:VEVENT
END:VCALENDAR